BEGIN:VCALENDAR
VERSION:2.0
PRODID:-//Collateral Eyes - ECPv6.12.0.1//NONSGML v1.0//EN
CALSCALE:GREGORIAN
METHOD:PUBLISH
X-WR-CALNAME:Collateral Eyes
X-ORIGINAL-URL:https://collateraleyes.com
X-WR-CALDESC:Veranstaltungen für Collateral Eyes
REFRESH-INTERVAL;VALUE=DURATION:PT1H
X-Robots-Tag:noindex
X-PUBLISHED-TTL:PT1H
BEGIN:VTIMEZONE
TZID:Europe/Paris
BEGIN:DAYLIGHT
TZOFFSETFROM:+0100
TZOFFSETTO:+0200
TZNAME:CEST
DTSTART:20260329T010000
END:DAYLIGHT
BEGIN:STANDARD
TZOFFSETFROM:+0200
TZOFFSETTO:+0100
TZNAME:CET
DTSTART:20261025T010000
END:STANDARD
END:VTIMEZONE
BEGIN:VEVENT
DTSTART;TZID=Europe/Paris:20260426T130000
DTEND;TZID=Europe/Paris:20260426T170000
DTSTAMP:20260419T235028
CREATED:20260227T083008Z
LAST-MODIFIED:20260419T142551Z
UID:2128-1777208400-1777222800@collateraleyes.com
SUMMARY:Q2/2026 - Frankfurt am Main Ost
DESCRIPTION:Frankfurt Ost Walk\nEndlich ist es wieder so weit: Der Frühling ist da und wir haben wieder Lust\, mit euch einen Walk zu machen. \nDiesmal treffen wir uns direkt vor dem Kunstverein Familie Montez\, gegenüber vom Skatepark. \nVon dort aus geht es grob durch den Osthafenpark weiter Richtung Ostend bzw. Bornheim\, bevor der Walk irgendwo in der Innestadt endet. Die genaue Route geben wir vor Ort bekannt. \nWenn es sich ergibt\, können wir danach noch spontan zusammen einkehren. \nWir freuen uns auf euch. Eine Anmeldung ist nicht nötig — kommt einfach vorbei und seid pünktlich am Treffpunkt. \nDetails zum Walk:\nWaypoints und Details zur Route (bzw. evtl. Themen) machen wir wie immer spontan am Treffpunkt aus. Eine Anmeldung ist nicht notwendig. \nDie Route werden wir vor Ort bekannt geben. Am Ende des Photowalks werden wir wieder wie gewohnt in einem netten Gastronomiebetrieb einkehren und Zeit zum Quatschen haben. \n\nAllgemeine Infos zum Thema Photowalk findest du auf unserer FAQ Seite. \n\n\nFalls du noch weitere Fragen hast\, schreib uns doch gerne eine Nachricht über unser Kontaktformular. Wir freuen uns über alle Nachrichten und beantworten zeitnahe jede Email.
URL:https://collateraleyes.com/event/q2-2026-frankfurt-am-main/
LOCATION:Frankfurt\, Kunstverein Famile Montez\, Honsellstraße 7\, Frankfurt am Main\, Hessen\, 60314\, Germany
CATEGORIES:Photowalk-Termine
ATTACH;FMTTYPE=image/png:https://collateraleyes.com/wp-content/uploads/2026/02/CE_Website-Banner_Q2_2026-1-scaled.png
END:VEVENT
END:VCALENDAR