BEGIN:VCALENDAR
VERSION:2.0
PRODID:-//Collateral Eyes - ECPv6.12.0.1//NONSGML v1.0//EN
CALSCALE:GREGORIAN
METHOD:PUBLISH
X-WR-CALNAME:Collateral Eyes
X-ORIGINAL-URL:https://collateraleyes.com
X-WR-CALDESC:Veranstaltungen für Collateral Eyes
REFRESH-INTERVAL;VALUE=DURATION:PT1H
X-Robots-Tag:noindex
X-PUBLISHED-TTL:PT1H
BEGIN:VTIMEZONE
TZID:Europe/Paris
BEGIN:DAYLIGHT
TZOFFSETFROM:+0100
TZOFFSETTO:+0200
TZNAME:CEST
DTSTART:20260329T010000
END:DAYLIGHT
BEGIN:STANDARD
TZOFFSETFROM:+0200
TZOFFSETTO:+0100
TZNAME:CET
DTSTART:20261025T010000
END:STANDARD
END:VTIMEZONE
BEGIN:VEVENT
DTSTART;TZID=Europe/Paris:20260215T121100
DTEND;TZID=Europe/Paris:20260215T160000
DTSTAMP:20260419T201416
CREATED:20260129T152843Z
LAST-MODIFIED:20260129T153950Z
UID:2122-1771157460-1771171200@collateraleyes.com
SUMMARY:Q1/2026 – Mainzer Fastnacht
DESCRIPTION:Hier ist er wieder: unser alljährlicher Meenzer Fastnacht PHT WLK!  Wir freuen uns sehr\, mit euch wieder durch unsere zweitliebste Stadt\, Mainz\, zu laufen. \nDetails zum Walk:\nWaypoints und Details zur Route (bzw. evtl. Themen) machen wir wie immer spontan am Treffpunkt aus. Eine Anmeldung ist nicht notwendig. \nSei einfach pünktlich um 12:11 Uhr am vereinbarten Treffpunkt. \nApropos Treffpunkt: der Treffpunkt am 15.02.2026 um 12:11 Uhr ist:\nEcke Holzstraße & Augustinerstraße\, Nähe Hopfengarten in Mainz  (siehe Google Maps). \nDie Route werden wir vor Ort bekannt geben. Am Ende des Photowalks werden wir wieder wie gewohnt in einem netten Gastronomiebetrieb einkehren und Zeit zum Quatschen haben. \n\nAllgemeine Infos zum Thema Photowalk findest du auf unserer FAQ Seite. \n\n\nFalls du noch weitere Fragen hast\, schreib uns doch gerne eine Nachricht über unser Kontaktformular. Wir freuen uns über alle Nachrichten und beantworten zeitnahe jede Email.
URL:https://collateraleyes.com/event/q1-2026-mainzer-fastnacht/
CATEGORIES:Photowalk-Termine
ATTACH;FMTTYPE=image/png:https://collateraleyes.com/wp-content/uploads/2026/01/CE_Website-Banner_Q1_2026-scaled.png
END:VEVENT
END:VCALENDAR