BEGIN:VCALENDAR
VERSION:2.0
PRODID:-//Collateral Eyes - ECPv6.12.0.1//NONSGML v1.0//EN
CALSCALE:GREGORIAN
METHOD:PUBLISH
X-ORIGINAL-URL:https://collateraleyes.com
X-WR-CALDESC:Veranstaltungen für Collateral Eyes
REFRESH-INTERVAL;VALUE=DURATION:PT1H
X-Robots-Tag:noindex
X-PUBLISHED-TTL:PT1H
BEGIN:VTIMEZONE
TZID:Europe/Paris
BEGIN:DAYLIGHT
TZOFFSETFROM:+0100
TZOFFSETTO:+0200
TZNAME:CEST
DTSTART:20250330T010000
END:DAYLIGHT
BEGIN:STANDARD
TZOFFSETFROM:+0200
TZOFFSETTO:+0100
TZNAME:CET
DTSTART:20251026T010000
END:STANDARD
END:VTIMEZONE
BEGIN:VEVENT
DTSTART;TZID=Europe/Paris:20251129T143000
DTEND;TZID=Europe/Paris:20251129T180000
DTSTAMP:20260419T170018
CREATED:20250908T094605Z
LAST-MODIFIED:20251109T133252Z
UID:2103-1764426600-1764439200@collateraleyes.com
SUMMARY:Q4/2025 - Frankfurt am Main\, jährliches Weihnachtsmärkte-Special
DESCRIPTION:Weihnachtszeit Oh Weihnachtszeit\, ach jetzt ist es schon wieder soweit! Und das Schönste an dieser Tradition ist doch unsere Regelmäßigkeit 🙂 \nHier ist er wieder: unser alljährlicher XMAS PHT WLK!  Wir freuen uns sehr\, mit euch wieder durch unsere Lieblingsstadt Frankfurt zu laufen und die schönen Weihnachtsmärkte zu besuchen. \nDetails zum Walk:\nWaypoints und Details zur Route (bzw. evtl. Themen) machen wir wie immer spontan am Treffpunkt aus. Eine Anmeldung ist nicht notwendig. Sei einfach pünktlich um 14:30 Uhr am vereinbarten Treffpunkt. \nDer Treffpunkt am 29.11.2025 um 14:30 Uhr ist der Willy-Brandt-Platz\, an der Euro-Skulptur.   \nDie Route werden wir vor Ort bekannt geben. Am Ende werden wir wieder versuchen\, zusammen ein Glühweinchen zu schlürfen – wo genau entscheiden wir vor Ort. Vermutlich stehend! Und wahrscheinlich frierend! Aber immer mit einem Lächeln 😉 \n\nAllgemeine Infos zum Thema Photowalk findest du auf unserer FAQ Seite. \n\n\nFalls du noch weitere Fragen hast\, schreib uns doch gerne eine Nachricht über unser Kontaktformular. Wir freuen uns über alle Nachrichten und beantworten zeitnahe jede Email.
URL:https://collateraleyes.com/event/q4-2025-frankfurt-am-main-jaehrliches-weihnachtsmaerkte-special/
LOCATION:Willy-Brandt-Platz\, 60311 Frankfurt am Main\, Euro-Skulptur Willy-Brandt-Platz\, Frankfurt am Main\, Hessen\, 60311\, Deutschland
CATEGORIES:Photowalk-Termine
ATTACH;FMTTYPE=image/png:https://collateraleyes.com/wp-content/uploads/2025/09/q4walk2025-scaled.png
END:VEVENT
END:VCALENDAR