BEGIN:VCALENDAR
VERSION:2.0
PRODID:-//Collateral Eyes - ECPv6.12.0.1//NONSGML v1.0//EN
CALSCALE:GREGORIAN
METHOD:PUBLISH
X-WR-CALNAME:Collateral Eyes
X-ORIGINAL-URL:https://collateraleyes.com
X-WR-CALDESC:Veranstaltungen für Collateral Eyes
REFRESH-INTERVAL;VALUE=DURATION:PT1H
X-Robots-Tag:noindex
X-PUBLISHED-TTL:PT1H
BEGIN:VTIMEZONE
TZID:Europe/Berlin
BEGIN:DAYLIGHT
TZOFFSETFROM:+0100
TZOFFSETTO:+0200
TZNAME:CEST
DTSTART:20230326T010000
END:DAYLIGHT
BEGIN:STANDARD
TZOFFSETFROM:+0200
TZOFFSETTO:+0100
TZNAME:CET
DTSTART:20231029T010000
END:STANDARD
END:VTIMEZONE
BEGIN:VEVENT
DTSTART;VALUE=DATE:20231209
DTEND;VALUE=DATE:20231210
DTSTAMP:20260425T022759
CREATED:20230117T120352Z
LAST-MODIFIED:20231126T090222Z
UID:1596-1702080000-1702166399@collateraleyes.com
SUMMARY:Photowalk in Frankfurt Q4/2023
DESCRIPTION:Weihnachtszeit Oh Weihnachtszeit\, ach jetzt ist es schon soweit!\nUnd das Schönste an solchen Traditionen ist doch die Regelmäßigkeit 🙂 \nHier ist er wieder: unser alljährlicher XMAS PHT WLK!  Wir freuen uns sehr\, mit euch wieder durch unsere Lieblingsstadt Frankfurt zu laufen und die schönen Weihnachtsmärkte zu besuchen. \nDetails zum Walk:\nWaypoints und Details zur Route bzw. Themen machen wir spontan am Treffpunkt aus. Eine Anmeldung ist nicht notwendig. Sei einfach pünktlich um 14:00 Uhr am vereinbarten Treffpunkt \nWir treffen uns um 14:00 Uhr draußen _vor_ dem Geschäft „Foto Leistenschneider“ und laufen dann gemeinsam durch die Stadt. \nAllgemeine Infos zum Thema Photowalk findest du auf unserer FAQ Seite. \n\n\nFalls du noch weitere Fragen hast\, schreib uns doch gerne eine Nachricht über unser Kontaktformular. Wir freuen uns über alle Nachrichten und beantworten zeitnahe jede Email.
URL:https://collateraleyes.com/event/photowalk-in-frankfurt-q4-2023/
LOCATION:öffentlicher Gehweg vor dem Geschäft Foto Leistenschneider in Frankfurt\, Roßmarkt 15A\, Frankfurt am Main\, Hessen\, 60311\, Deutschland
CATEGORIES:Photowalk-Termine
ATTACH;FMTTYPE=image/png:https://collateraleyes.com/wp-content/uploads/2023/01/pht_wlk_facebook_banner_B_21102023.png
END:VEVENT
END:VCALENDAR